BEGIN:VCALENDAR
VERSION:2.0
PRODID:-//wp-events-plugin.com//7.2.3.1//EN
TZID:Europe/Berlin
X-WR-TIMEZONE:Europe/Berlin
BEGIN:VEVENT
UID:2@oegpb.at
DTSTART;TZID=Europe/Berlin:20231111T000000
DTEND;TZID=Europe/Berlin:20231112T000000
DTSTAMP:20230703T091017Z
URL:https://oegpb.at/termine/25-jahrestagung-der-oegpb/
SUMMARY:25. JAHRESTAGUNG DER ÖGPB
DESCRIPTION:[et_pb_section fb_built="1" _builder_version="4.9.4" _module_pr
 eset="default"][et_pb_row _builder_version="4.9.4" _module_preset="default
 " custom_margin="|auto||auto|false|false" custom_padding="27px||0px|||" lo
 cked="off"][et_pb_column type="4_4" _builder_version="4.9.4" _module_prese
 t="default"][et_pb_image src="https://oegpb.at/wp-content/uploads/2022/06/
 OGPB_2022_Header-Virtuell_2640x754px-2_300dpi-scaled.jpg" title_text="ÖGP
 B_2022_Header-Virtuell_2640x754px-2_300dpi" disabled_on="on|on|on" admin_l
 abel="Image" _builder_version="4.9.4" _module_preset="default" disabled="o
 n"][/et_pb_image][et_pb_text _builder_version="4.9.4" _module_preset="defa
 ult" header_4_text_color="#000000" width="100%" min_height="102.2px" custo
 m_margin="2px|-43px||||" custom_padding="11px||0px|13px|false|false" locke
 d="off"]Wir freuen uns\, dass die Jahrestagung 2023 wieder als Präsenzver
 anstaltung durchgeführt wird. Unsere Jubiläumstagung wird vom 11. bis 12
 . November 2023 im prachtvollen und geschichtsträchtigen Festsaal der Uni
 versität Wien stattfinden. Merken Sie sich jetzt schon den 11. und 12. No
 vember 2023 dafür in Ihrem Terminkalender vor!\nDas Programm zur 25. Jahr
 estagung der ÖGPB folgt in Kürze.\n\n\nVeranstalterÖsterreichische Gese
 llschaft für Neuropsychopharmakologie und Biologische Psychiatrie (ÖGPB)
 \nWissenschaftliche LeitungUniv.-Prof. Dr. med. Dan Rujescuem. o. Univ.-Pr
 of. Dr. h.c. mult. Dr. med. Siegfried Kasper\nProgrammkomitee 2023\n\nDr. 
 med. univ. et scient.med. Lucie Bartova\, Wien\nPrim. Dr. Florian Buchmaye
 r\, Eisenstadt\nDDr. Laura Carlberg\, Wien\nPrim. Prof. Dr. Alex Hofer\, I
 nnsbruck\nAssoc.-Prof. PD Dr.  Katharina Hüfner\, Innsbruck\nem.o. Prof.
  Dr. h.c. mult. Dr. Siegfried Kasper\, Wien\nPrim. Dr. Adelheid Kastner\, 
 Linz\nPrim. Dr. Philipp Kloimstein\, Maria Ebene\nPrim. Univ.Prof. DDr. Mi
 chael Lehofer\, Graz\nPrim. Dr. Georg Psota\, Wien\nDr. Robert Queissner\,
  Graz\nPrim. Dr. Christa Rados\, Villach\nUniv.-Prof. Dr. Dan Rujescu\, Wi
 en\nUniv.-Prof. DDr. Gabriele Sachs\, Wien\nPriv.-Doz. DDr.Marie Spies\, W
 ien\n[/et_pb_text][/et_pb_column][/et_pb_row][et_pb_row column_structure="
 1_3\,1_3\,1_3" _builder_version="4.9.4" _module_preset="default" min_heigh
 t="30.8px" custom_margin="|auto||auto|false|false" custom_padding="0px||0p
 x|||" locked="off"][et_pb_column type="1_3" _builder_version="4.9.4" _modu
 le_preset="default"][et_pb_image src="https://oegpb.at/wp-content/uploads/
 2022/06/OGPB_2022_Header-Virtuell_2640x754px-2_300dpi-scaled.jpg" title_te
 xt="ÖGPB_2022_Header-Virtuell_2640x754px-2_300dpi" disabled_on="on|on|on"
  admin_label="Image" _builder_version="4.9.4" _module_preset="default" dis
 abled="on"][/et_pb_image][et_pb_text _builder_version="4.9.4" _module_pres
 et="default" width="71.1%"]Veranstaltungsort\nUniversität WienUniversitä
 tsring 1\, 1010 WienÖffentliche Verkehrsmittel:Haltestelle Station Schott
 entor[/et_pb_text][/et_pb_column][et_pb_column type="1_3" _builder_version
 ="4.9.4" _module_preset="default"][et_pb_image src="https://oegpb.at/wp-co
 ntent/uploads/2023/03/20150730_HG_Grosser_Festsaal_C_Georg_Schroll_008-e16
 78366343208-300x255.jpg" alt="HG Großer Festsaal\, © Georg Schroll" titl
 e_text="HG Großer Festsaal\, © Georg Schroll" _builder_version="4.9.4" _
 module_preset="default" max_width="46.6%" custom_margin="|103px|-20px|||"]
 [/et_pb_image][/et_pb_column][et_pb_column type="1_3" _builder_version="4.
 9.4" _module_preset="default"][/et_pb_column][/et_pb_row][et_pb_row _build
 er_version="4.9.4" _module_preset="default" custom_margin="|auto||auto|fal
 se|false" custom_padding="8px||0px|||" locked="off"][et_pb_column type="4_
 4" _builder_version="4.9.4" _module_preset="default"][et_pb_image src="htt
 ps://oegpb.at/wp-content/uploads/2022/06/OGPB_2022_Header-Virtuell_2640x75
 4px-2_300dpi-scaled.jpg" title_text="ÖGPB_2022_Header-Virtuell_2640x754px
 -2_300dpi" disabled_on="on|on|on" admin_label="Image" _builder_version="4.
 9.4" _module_preset="default" disabled="on"][/et_pb_image][et_pb_text _bui
 lder_version="4.9.4" _module_preset="default"]TeilnahmegebührenEUR 280\,
 – Gesamte TagungEUR 200\,– Gesamte Tagung\, ermäßigt*EUR 210\,– Ta
 geskarteEUR 130\,– Tageskarte\, ermäßigt*\nDie Preise verstehen sich u
 msatzsteuerfrei lt. §2/Abs.5/Zi.2 UStG.\n* Ermäßigung für Mitglieder d
 er ÖGPB. Limitierter freier Eintritt für Pflegeschüler:innen\, Student:
 innen\, Turnusärzt:innen\, Ärzt:innen in Basisausbildung  bzw. in Ausbi
 ldung für Allgemeinmedizin.\nKongressorganisation &amp\; Ausstellungsmana
 gement:Wiener Medizinische Akademie GmbHCongress Manager: Martina SeidelAl
 ser Strasse 41090 WienATU 44511907\nFür Fragen zur 25. Jahrestagung stehe
 n wir Ihnen gerne zur Verfügung:\nt: +43 1 4051383-42e: jahrestagung@oeg
 pb.at\n&nbsp\;\nDiese Veranstaltung wird für das Diplomfortbildungsprogra
 mm der Österreichischen Ärztekammer eingereicht.[/et_pb_text][/et_pb_col
 umn][/et_pb_row][/et_pb_section]
LOCATION:25. JAHRESTAGUNG DER ÖGPB\, Universität Wien Universitätsring 1
 \, 1010 Wien\, Universitätsring 1\, 1010 Wien\, Australien
X-APPLE-STRUCTURED-LOCATION;VALUE=URI;X-ADDRESS=Universität Wien Universit
 ätsring 1\, 1010 Wien\, Universitätsring 1\, 1010 Wien\, Australien;X-AP
 PLE-RADIUS=100;X-TITLE=25. JAHRESTAGUNG DER ÖGPB:geo:0,0
END:VEVENT
BEGIN:VTIMEZONE
TZID:Europe/Berlin
X-LIC-LOCATION:Europe/Berlin
BEGIN:STANDARD
DTSTART:20231029T020000
TZOFFSETFROM:+0200
TZOFFSETTO:+0100
TZNAME:CET
END:STANDARD
END:VTIMEZONE
END:VCALENDAR